BEGIN:VCALENDAR
VERSION:2.0
PRODID:-//urwahl3000//christa-moeller-metzger.de//DE
CALSCALE:GREGORIAN
BEGIN:VEVENT
DTSTART:20211124T100000
DTEND:20211126T180000
LOCATION:Congress Centrum Hannover Hannover
DTSTAMP:20211124T100000
SUMMARY:13. Deutscher Seniorentag
URL;VALUE=URI:https://christa-moeller-metzger.de/termin/13-deutscher-seniorentag/
DESCRIPTION:Der Deutsche Seniorentag ist die wichtigste bundesweite Veranstaltung zum Älterwerden in Deutschland. Mit einem vielfältigen Veranstaltungsprogramm und der Messe bietet er älteren Menschen und ihren Angehörigen Informationen und Anregungen für ein gutes Leben im Alter.

Politik, Verbände und Gesellschaft diskutieren aktuelle Fragen der Seniorenarbeit und Seniorenpolitik. Der Deutsche Seniorentag steht im Wechsel unter der Schirmherrschaft des Bundeskanzleramts oder – wie 2018 – des Bundespräsidenten.

<a href="https://www.deutscher-seniorentag.de">Wir.Alle.Zusammen</a>

Hier geht es zum<a href="https://www.deutscher-seniorentag.de/programm/"> Programm</a> an den 3 Tagen.
UID:20211124T100000-20211124T100000-20211126T180000
END:VEVENT
END:VCALENDAR