BEGIN:VCALENDAR
VERSION:2.0
PRODID:-//urwahl3000//christa-moeller-metzger.de//DE
CALSCALE:GREGORIAN
BEGIN:VEVENT
DTSTART:20211206T190000
DTEND:20211206T200000
LOCATION:Digital Hamburg
DTSTAMP:20211206T190000
SUMMARY:Grüner Adventsempfang am Nikolaustag
URL;VALUE=URI:https://christa-moeller-metzger.de/termin/adventsfeier/
DESCRIPTION:<div class="kvgmc6g5 cxmmr5t8 oygrvhab hcukyx3x c1et5uql">Am 6. Dezember ab 19.00 Uhr laden Christa Möller-Metzger (Senior*innenpolitische Sprecherin der Grünen in der Hamburgischen Bürgerschaft) und Dennis Paustian-Döscher (Grüner Sprecher für Haushaltspolitik und öffentlichen Dienst) sehr herzlich interessierte Bürgerinnen und Bürger zu einem digitalen Adventsempfang ein.</div>
 
<div class="o9v6fnle cxmmr5t8 oygrvhab hcukyx3x c1et5uql">Gemeinsam möchten Christa Möller-Metzger und Dennis Paustian-Döscher mit allen Gäste über die Arbeit in der Bürgerschaft berichten. Als besonderer Gast ist die Zweite Bürgermeisterin der Hansestadt, <strong>Katharina Fegebank,</strong> eingeladen,  die aktuell gerade aktiv in die Verhandlungen der Ampelkoalition eingebunden ist.</div>
 
<div></div>
<div class="o9v6fnle cxmmr5t8 oygrvhab hcukyx3x c1et5uql">Aufgrund der pandemischen Lage verzichten wir auf ein analoges Treffen und freuen uns auf viele Gäste im digitalen Raum. <a href="https://gruenlink.de/2cp9">Bitte klicken Sie hier</a> und schalten am 6. Dezember um 19 Uhr ein.</div>
 
UID:20211206T190000-20211206T190000-20211206T200000
END:VEVENT
END:VCALENDAR