BEGIN:VCALENDAR
VERSION:2.0
PRODID:-//urwahl3000//christa-moeller-metzger.de//DE
CALSCALE:GREGORIAN
BEGIN:VEVENT
DTSTART:20221109T183000
DTEND:20221109T183000
LOCATION:Barmbek Basch Hamburg\, Wohldorfer Str. 30
DTSTAMP:20221109T183000
SUMMARY:AWO im Dialog – Zukunft der Offenen Seniorenarbeit
URL;VALUE=URI:https://christa-moeller-metzger.de/termin/awo-im-dialog-zukunft-der-offenen-seniorenarbeit/
DESCRIPTION:Am 9. November nehme ich an einer Podiumsdiskussion der AWO Hamburg teil.

Im Mittelpunkt der Diskussion steht die Frage nach der Zukunft von Senior*innentreffs: reicht dafür die ehrenamtliche Arbeit aus oder braucht es hauptamtliche Mitarbeiter*innen?

Der Hamburger Senat plant mit der „Globalrichtlinie Offene Seniorenarbeit“ eine Weiterentwicklung der Offenen Seniorenarbeit. Diese umfasst zum Beispiel Integration, Inklusion, Digitalisierung und die generationsübergreifende Öffnung der Treffs ins Quartier und für Menschen der LGBTQI+ Community. Welche Auswirkungen haben die neuen Anforderungen und wie kann der Mehraufwand geleistet werden?

Es diskutieren:
<ul>
 	<li>Dr. Eva Gümbel, Staatsrätin für Wissenschaft, Forschung und Gleichstellung; BWFGB</li>
 	<li>Britta Schlage, Fachsprecherin Senior*innen SPD</li>
 	<li>Christa Möller-Metzger, Sprecherin für Senior*innenpolitik GRÜNE</li>
 	<li>Jutta Blankau, Präsidiumsvorsitzende AWO Hamburg</li>
 	<li>Jens Stappenbeck, Arbeitsgemeinschaft Freie Wohlfahrtsverbände</li>
</ul>
<strong>Bitte beachten: Es gelten die aktuellen Hygienevorschriften und Sicherheitsmaßnahmen. Bei der Veranstaltung werden Fotos für die Öffentlichkeitsarbeit der AWO Hamburg gemacht.</strong>

 
UID:20221109T183000-20221109T183000-20221109T183000
END:VEVENT
END:VCALENDAR