BEGIN:VCALENDAR
VERSION:2.0
PRODID:-//urwahl3000//christa-moeller-metzger.de//DE
CALSCALE:GREGORIAN
BEGIN:VEVENT
DTSTART:20250302T080000
DTEND:20250302T180000
LOCATION:Wahllokale Hamburg Hamburg
DTSTAMP:20250302T080000
SUMMARY:Bürgerschaftswahlen Hamburg 2025
URL;VALUE=URI:https://christa-moeller-metzger.de/termin/buergerschaftswahlen-hamburg-2025/
DESCRIPTION:Heute wird die neue Bürgerschaft in Hamburg gewählt.
UID:20250302T080000-20250302T080000-20250302T180000
END:VEVENT
END:VCALENDAR