BEGIN:VCALENDAR
VERSION:2.0
PRODID:-//urwahl3000//christa-moeller-metzger.de//DE
CALSCALE:GREGORIAN
BEGIN:VEVENT
DTSTART:20211026T173000
DTEND:20211026T173000
LOCATION:NewLivingHome Hamburg
DTSTAMP:20211026T173000
SUMMARY:Die seniorenfreundliche Stadt
URL;VALUE=URI:https://christa-moeller-metzger.de/termin/die-seniorenfreundliche-stadt/
DESCRIPTION:Am 26. Oktober um 17:30 Uhr organisiert das Hanse-Parlament eine Informations- und Diskussionsveranstaltung für Hamburger Senior*Innen gemeinsam mit NEW GENERATION e.V. und dem Bezirksamt Eimsbüttel. Das Hanse-Parlament wird an diesem Abend das Interreg Projekt BaltSe@nioR 2.0 (<a href="https://baltseanior.com/" target="_blank" rel="noopener noreferrer">https://baltseanior.com/</a>) vorstellen bei dem die Stadt Hamburg auch assoziierter Partner ist. Weiterhin wird Frau Edelhoff vom Bezirksamt Eimsbüttel das Projekt GreenSAM vorstellen (<a href="https://www.hamburg.de/eimsbuettel/greensam/" target="_blank" rel="noopener noreferrer">https://www.hamburg.de/eimsbuettel/greensam/</a>).

Die Veranstaltung wird im Atrium des NewLivingHome in der Julius-Vosseler-Str. 40 in Hamburg-Lokstedt stattfinden.

Der Eintritt ist frei.
UID:20211026T173000-20211026T173000-20211026T173000
END:VEVENT
END:VCALENDAR