BEGIN:VCALENDAR
VERSION:2.0
PRODID:-//urwahl3000//christa-moeller-metzger.de//DE
CALSCALE:GREGORIAN
BEGIN:VEVENT
DTSTART:20220930T100000
DTEND:20220930T123000
LOCATION:Gemeindehaus St. Michaelis Hamburg\, Englische Planke 1\, Bachsaal
DTSTAMP:20220930T100000
SUMMARY:Festveranstaltung „Internationaler Tag der älteren Menschen“
URL;VALUE=URI:https://christa-moeller-metzger.de/termin/festveranstaltung-internationaler-tag-der-aelteren-menschen/
DESCRIPTION:<h5><a href="https://www.lsb-hamburg.de/fileadmin/Kalender-Dateien/LSB-Einladung_30Sept2022_web.pdf"><strong>Einladung</strong></a></h5>
<div class="page" title="Page 2">
<div class="layoutArea">
<div class="column">

Den „Internationalen Tag der älteren Menschen“ haben die Vereinten Nationen 1991 ins Leben ge- rufen, um die Leistungen der Älteren für die Gesell- schaft hervorzuheben und zu würdigen. Seither werden zum 1. Oktober jeden Jahres die Heraus- forderungen des Älterwerdens und die Lebens- situation der Seniorinnen und Senioren in das Bewusstsein der Öffentlichkeit gerückt.

Der Landes-Seniorenbeirat und die DGB Senioren Hamburg nutzen den Internationalen Tag seit 2015 für eine große gemeinsame Festveranstaltung. Pandemiebedingt musste die Feier in den beiden Vorjahren ausfallen. Umso größer ist die Freude, die Tradition im Herbst 2022 wieder aufleben zu lassen.

Im Hamburger Senat ist die Zweite Bürgermeisterin Katharina Fegebank für Seniorenpolitik zuständig. Die Seniorenmitwirkung ist in ihrer Behörde dem Amt für Gleichstellung und gesellschaftlichen Zusammenhalt zugeordnet. Sie wird über aktuelle Vorhaben und Planungen, die die ältere Generation in der Stadt betreffen, sprechen.

Im Vortrag „Neue Altersbilder“ wirft Barbara Wackernagel-Jacobs einen ermutigend anderen Blick auf das Älterwerden. Sie berichtet über gute Initiativen, wissenschaftliche Erkenntnisse und spannende Vorbilder. Mit Sorge hat es sie erfüllt, dass Ältere in der Corona-Krise automatisch zur Haupt-Risikogruppe erklärt wurden.

Aufgrund der vielen Betrugsfälle bei Älteren mit Schockanrufen von falschen Polizist:innen oder angeblichen Enkeln sensibilisiert die Hamburger Kriminalpolizei für die Maschen der Gaunerbanden.

</div>
</div>
</div>
<h5><strong>Program</strong></h5>
<div class="page" title="Page 2">
<div class="layoutArea">
<div class="column">

Programm der Festveranstaltung Freitag, 30. September 2022

Einlass ab 9.30 Uhr, Beginn um 10 Uhr

Eröffnung

Karin Rogalski-Beeck, LSB-Vorsitzende Sven Quiring, GEW-Vorsitzender

Grußwort

Hauptpastor Alexander Röder, Hauptkirche St. Michaelis

Ansprache

Die aktuelle Seniorenpolitik des Senats

Zweite Bürgermeisterin Katharina Fegebank, Senatorin der Behörde für Wissenschaft, Forschung, Gleichstellung und Bezirke

Musik Duo Sonorous Festvortrag

Die neuen Altersbilder

Barbara Wackernagel-Jacobs, Filmproduzentin und frühere Ministerin für Frauen, Arbeit, Gesundheit und Soziales im Saarland

Kurzreferat

Schockanruf – und das gesamte Vermögen ist futsch!
Frauke Hannes, LKA Hamburg, Kriminalprävention

Schlusswort Karin Rogalski-Beeck Ausklang mit Buffet und Getränken Ende um ca. 12.30 Uhr

</div>
</div>
</div>
 
UID:20220930T100000-20220930T100000-20220930T123000
END:VEVENT
END:VCALENDAR