BEGIN:VCALENDAR
VERSION:2.0
PRODID:-//urwahl3000//christa-moeller-metzger.de//DE
CALSCALE:GREGORIAN
BEGIN:VEVENT
DTSTART:20230517T180000
DTEND:20230517T200000
LOCATION:Burchardstraße 19 / 3. OG Hamburg
DTSTAMP:20230517T180000
SUMMARY:Grüne 60plus – Treffen im Mai 2023
URL;VALUE=URI:https://christa-moeller-metzger.de/termin/gruene-60plus-treffen-im-mai-2023/
DESCRIPTION:18.00 – 20.00 Uhr /hybrid – Landesgeschäftsstelle, Burchardstraße 19/3. OG
UID:20230517T180000-20230517T180000-20230517T200000
END:VEVENT
END:VCALENDAR