BEGIN:VCALENDAR
VERSION:2.0
PRODID:-//urwahl3000//christa-moeller-metzger.de//DE
CALSCALE:GREGORIAN
BEGIN:VEVENT
DTSTART:20230617T100000
DTEND:20230617T170000
LOCATION:Burchardstraße 21 / 1.OG Hamburg
DTSTAMP:20230617T100000
SUMMARY:Klausurtreffen aller GRÜNEN 60plus in Hamburg
URL;VALUE=URI:https://christa-moeller-metzger.de/termin/klausurtreffen-alle-60-in-hamburg/
DESCRIPTION:<strong><span style="font-size: medium;">Herzliche Einladung </span><span style="font-size: medium;">zu einem Klausurtreffen am </span><span style="font-size: medium;">Samstag</span><span style="font-size: medium;">, den </span><span style="font-size: medium;">17. Juni</span></strong>
<span style="font-size: medium;"><b>von 10-17 Uhr mit</b></span><span style="font-size: medium;"><b> dabei sind Katharina Fegebank und Maryam Blumenthal</b></span>
<div><span style="font-size: medium;">Wir GRÜNEN 60+ haben in den letzten Jahren schon sehr viel erreicht und wollen jetzt hamburgweit noch sichtbarer werden. Besonders mit Blick auf die kommenden Wahlen in den nächsten beiden Jahren.  </span></div>
<span style="font-size: medium;">Deshalb wollen wir mit allen, die am Thema 60 + interessiert sind, ins Gespräch kommen, denn gemeinsam sind wir stärker!</span>
<div></div>
<div><span style="font-size: medium;"><b>Was planen wir für diesen Tag?</b></span></div>
<div></div>
<div></div>
<div><span style="font-size: medium;">Berichte, was die anderen GRÜNEN 60+-Gruppen in Hamburg so machen und was sie bewegt, als Anregung für alle.</span></div>
<div><span style="font-size: medium;">Austausch in kleinen Gruppen zu allen Themen 60+ - z.B. auch für unsere Wahlprogramme.</span></div>
<div><span style="font-size: medium;">Unterstützung, Motivation und Ideen sammeln. </span><span style="font-size: medium;">Gelegenheit,  sich kennen zu lernen, Spaß und gute Gespräche.</span></div>
<div></div>
<div><span style="font-size: medium;">Mechthild Weber, die Sprecherin der GRÜNEN 60+ Wandsbek, hat die weitere Organisation für diesen Tag übernommen.</span></div>
<div><span style="font-size: medium;">Wenn es Fragen gibt, leitet sie gern an Mechthild weiter. </span><span style="font-size: medium;">mechthild.weber@gruene-wandsbek.de</span></div>
UID:20230617T100000-20230617T100000-20230617T170000
END:VEVENT
END:VCALENDAR