BEGIN:VCALENDAR
VERSION:2.0
PRODID:-//urwahl3000//christa-moeller-metzger.de//DE
CALSCALE:GREGORIAN
BEGIN:VEVENT
DTSTART:20211126T113000
DTEND:20211126T130000
LOCATION:Future Meeting Space B Hannover 
DTSTAMP:20211126T113000
SUMMARY:Pflegende Angehörige und Pflege in Zeiten des Pflegenotstandes (Seniorentag Hannover)
URL;VALUE=URI:https://christa-moeller-metzger.de/termin/pflegende-angehoerige-und-pflege-in-zeiten-des-pflegenotstandes/
DESCRIPTION:<div id="c3945" class="frame frame-default default frame-type-textmedia frame-layout-0">
<div class="ce-textpic ce-right ce-intext">
<div class="ce-bodytext">

Die Grüne Alten und Wir Pflegen laden zur Podiumsdiskussion auf dem Seniorentag in Hannover ein.

Mit dieser Veranstaltung soll ein Bewusstsein für die Leistungen von pflegenden Angehörigen geschaffen und der politische Handlungsbedarf aufgezeigt werden. Anhand typischer Beispiele werden die Situation und die Tätigkeit von pflegenden Angehörigen veranschaulicht.

Die Leistungen von pflegenden Angehörigen werden im Leistungsgeschehen der ambulanten Pflege verortet. Daran wird der gesellschaftliche und wirtschaftliche Anteil der pflegenden Angehörigen am Pflegegeschehen überdeutlich.

Pflegende Angehörige und andere Interessierte erhalten bei dieser Veranstaltung Hinweise, welche Möglichkeiten (nach Pflegeversicherungsrecht und anderer Sozialgesetzbücher) bestehen, um die Pflege organisieren und finanzieren zu können. Dazu zählen beispielsweise auch die Pflegeberatung, therapeutische Hilfsmittel und Möglichkeiten der Wohnungsanpassung.

</div>
</div>
</div>
<div id="c3944" class="frame frame-default default frame-type-textmedia frame-layout-0">
<h3 class="">Mitwirkende</h3>
<div class="ce-textpic ce-right ce-intext">
<div class="ce-bodytext">
<ul class="unordered-list">
 	<li>Kordula Schulz-Asche, MdB, Fraktion Bündnis 90/Die GRÜNEN im Bundestag</li>
 	<li>Anja Cent, Pflegende Angehörige, Mitglied wir pflegen e.V.</li>
 	<li>Bettina Hawighorst, Landesvertreterin wir pflegen e.V. Niedersachsen</li>
 	<li>Nicole Knudsen, Landesvertreterin wir pflegen e.V. Schleswig-Holstein</li>
 	<li>Stephanie Letkemann, Ländliche Erwachsenenbildung (LEB) Hannover</li>
 	<li>Antonia Schwarz, Sprecherin Grüne Alte Bundesverband</li>
 	<li>Carolin Teller, ambet Kompetenzzentrum Gerontopsychiatrische Beratung, Landesfachstelle Demenz, Braunschweig</li>
</ul>
</div>
</div>
</div>
<div id="c3943" class="frame frame-default default frame-type-textmedia frame-layout-0">
<h3 class="">Moderation</h3>
<div class="ce-textpic ce-right ce-intext">
<div class="ce-bodytext">
<ul class="unordered-list">
 	<li>Frank Schumann, Leiter der Fachstelle für pflegende Angehörige in Berlin, Vorstand wir pflegen e.V.</li>
</ul>
Verantwortlich sind <a href="https://www.gruenealte.de">Grüne Alte</a> und <a href="https://www.wir-pflegen.net">Wir pflegen!</a>

</div>
</div>
</div>
UID:20211126T113000-20211126T113000-20211126T130000
END:VEVENT
END:VCALENDAR