BEGIN:VCALENDAR
VERSION:2.0
PRODID:-//urwahl3000//christa-moeller-metzger.de//DE
CALSCALE:GREGORIAN
BEGIN:VEVENT
DTSTART:20211102T130000
DTEND:20211102T160000
LOCATION:Hinsbleek 11 Hamburg
DTSTAMP:20211102T130000
SUMMARY:Symposium „Zukunft der Technik und Innovation der Pflege“
URL;VALUE=URI:https://christa-moeller-metzger.de/termin/symposium-zukunft-der-technik-und-innovation-der-pflege/
DESCRIPTION:Im Rahmen der ersten Tour des Mobilen Living Labs "VITALab.mobile" findet die Podiumsdiskussion "Zukunft der Technik und Innovation der Pflege"  am Hospital zum Heiligen Geist in Hamburg-Poppenbüttel statt.

Neben der Podiumsdiskussion mit Gesprächspartner:innen aus Politik, Wissenschaft und Praxis, werden innovative Gesundheitsanwendungen aus aktuell laufenden BMBF-Projekten rund um die Themen Virtual und Augmented Reality und Gesundheit vorgestellt. Im Anschluss gibt es die Möglichkeit auf Gespräche bei einem kleinen Umtrunk.

13:00 – 13:45 Uhr Demos und Interviews für Presse

14:00 – 14:05 Uhr Begrüßung (Frank Schubert)

14:05 – 14:15 Uhr Begrüßung durch die BMBF Vertretung

14:15 – 14:30 Uhr Kurzvorstellung VITALabs mit EXGAVINE (10min) und BewARe (5min)

14:30 – 15:45 Uhr Podiumsdiskussion (Moderation Nizar Müller) – Thema: “Zukunft der Technik und Innovation der Pflege”
<ul>
 	<li>Frau Schlage (SPD)</li>
 	<li>Frau Möller-Metzger (Grüne)</li>
 	<li>Frau Anke Frieling (CDU)</li>
 	<li>Michael Kröger (Hospital zum Heiligen Geist)</li>
 	<li>Prof. Dr. Frank Steinicke (Universität Hamburg)</li>
</ul>
15:45 Networking, Getränke, Demo im VITALab.mobile

Weitere Informationen zu den BMBF Projekten finden sie hier:

<a href="https://www.interaktive-technologien.de/foerderung/bekanntmachungen/vrar-gesundes-leben">https://www.interaktive-technologien.de/foerderung/bekanntmachungen/vrar-gesundes-leben</a>

<a href="https://www.exgavine.de/">https://www.exgavine.de</a>

<a href="https://www.vita-labs.de/mobile">https://www.vita-labs.de/mobile</a>

<a href="https://www.beware-projekt.de/">https://www.beware-projekt.de</a>
UID:20211102T130000-20211102T130000-20211102T160000
END:VEVENT
END:VCALENDAR