BEGIN:VCALENDAR
VERSION:2.0
PRODID:-//urwahl3000//christa-moeller-metzger.de//DE
CALSCALE:GREGORIAN
BEGIN:VEVENT
DTSTART:20240429T180000
DTEND:20240429T193000
LOCATION:Seniorenbüro Hamburg e.V.\, Stapelfelder Straße 108\, Treffpunkt Grosslohe Hamburg
DTSTAMP:20240429T180000
SUMMARY:Was steht mir eigentlich zu? (Informationen und Beratung für Rentnerinnen und Rentner)
URL;VALUE=URI:https://christa-moeller-metzger.de/termin/was-steht-mir-eigentlich-zu/
DESCRIPTION:Immer mehr ältere Menschen müssen mit kleinen Renten auskommen. Die Mieten sind oft teuer und durch die Inflation ist es noch schwerer geworden, über die Runden zu kommen.

<b data-stringify-type="bold">Am 29. April um 18 Uhr gibt es im Seniorenbüro (Treffpunkt Großlohe) Antworten auf die Frage „Was steht mir eigentlich zu?“ für alle interessierten Rentnerinnen und Rentner. </b>
<ul>
 	<li>Wer hat Anspruch auf Wohngeld und wann greift die Grundsicherung?</li>
 	<li>Welche Angebote sind kostenlos oder können vergünstigt genutzt werden?</li>
 	<li>Wo gibt es gute Beratung?</li>
</ul>
Ich habe mir zwei Expertinnen eingeladen, die über alle aktuellen Ansprüche und Zuschüsse informieren können: <strong>Eva Müffelmann</strong> ist Fachreferentin beim Deutschen Roten Kreuz (DRK) und <strong>Brigitte Krebelder</strong> ist stellvertretende Landesvorsitzende des Sozialverbandes Deutschland (SoVD) in Hamburg. Gemeinsam wollen wir jede Frage beantworten.

Alle Interessierten sind herzlich eingeladen!

 
UID:20240429T180000-20240429T180000-20240429T193000
END:VEVENT
END:VCALENDAR