BEGIN:VCALENDAR
VERSION:2.0
PRODID:-//urwahl3000//christa-moeller-metzger.de//DE
CALSCALE:GREGORIAN
BEGIN:VEVENT
DTSTART:20220512T173000
DTEND:20220512T190000
LOCATION:Wiesendamm 24\, Hamburg DIE WIESE
DTSTAMP:20220512T173000
SUMMARY:Wie altersfreundlich ist Barmbek?
URL;VALUE=URI:https://christa-moeller-metzger.de/termin/wie-altersfreundlich-ist-barmbek/
DESCRIPTION:<strong>Wie altersfreundlich ist unser Stadtteil?</strong>

Wir wollen mit Ihnen, den Bürgerinnen und Bürgern aus dem Stadtteil ins Gespräch kommen und erfahren, was läuft gut und was kann noch verbessert werden, wenn es um das altersgerechte Leben in Barmbek geht.

Zur Auftaktveranstaltung sind als Gäste <strong>Katharina Fegebank </strong>(Zweite Bürgermeisterin von Hamburg und Senatorin für Bezirke) und <strong>Alske Freter</strong> (Spitzenkandidatin der GRÜNEN in Barmbek, Mitglied der Hamburgischen Bürgerschaft und zuständig für Europa, Internationales und Städtepartnerschaften) dabei.

Nach einer Einführung zum Projekt <a href="https://christa-moeller-metzger.de/2020/06/18/was-bedeutet-eigentlich-age-friendly-city/">Age-Friendly-City</a> durch Christa Möller-Metzger werden kleine Arbeitsgruppen zu den verschiedenen Themen gebildet. (Wohnen, Stadtentwicklung, Mobilität, Gesundheitsversorgung, Digitalisierung, Leben im Alter).  Jede*r hat die Möglichkeit, an zwei Gruppen teilzunehmen und seine Ideen einzubringen

Der Ergebnisse werden zusammengetragen und allen Teilnehmer*innen vorgestellt. Wir wollen die Diskussion mit allen Interessentinnen und Interessenten weiterführen und Sie informieren. Bringen Sie dafür Ihre Mailadresse mit.
UID:20220512T173000-20220512T173000-20220512T190000
END:VEVENT
END:VCALENDAR